BEGIN:VCALENDAR
PRODID:-//Hannon Hill Events//Cascade CMS//EN
VERSION:2.0
X-WR-TIMEZONE:America/Chicago
BEGIN:VTIMEZONE
TZID:America/Chicago
BEGIN:DAYLIGHT
TZOFFSETFROM:-0600
TZOFFSETTO:-0500
TZNAME:CDT
DTSTART:19700308T020000
RRULE:FREQ=YEARLY;BYMONTH=3;BYDAY=2SU
END:DAYLIGHT
BEGIN:STANDARD
TZOFFSETFROM:-0500
TZOFFSETTO:-0600
TZNAME:CST
DTSTART:19701101T020000
RRULE:FREQ=YEARLY;BYMONTH=11;BYDAY=1SU
END:STANDARD
END:VTIMEZONE
BEGIN:VEVENT
DTSTART:20250411T000000
DTEND:20250502T000000
DTSTAMP:20260424T005927
UID:757007260a01016c588fa3368f22aa05
CREATED:20240821T095601
DESCRIPTION:
LAST-MODIFIED:20250624T130629
SEQUENCE:0
STATUS:CONFIRMED
SUMMARY:Spring 2025 Senior Exhibitions
TRANSP:OPAQUE
LOCATION:Olive DeLuce Fine Arts Building
END:VEVENT
END:VCALENDAR
